BEGIN:VCALENDAR
VERSION:2.0
PRODID:-//Healing Recovery Centre - ECPv6.7.0//NONSGML v1.0//EN
CALSCALE:GREGORIAN
METHOD:PUBLISH
X-WR-CALNAME:Healing Recovery Centre
X-ORIGINAL-URL:https://healingrecoverycentre.ca
X-WR-CALDESC:Events for Healing Recovery Centre
REFRESH-INTERVAL;VALUE=DURATION:PT1H
X-Robots-Tag:noindex
X-PUBLISHED-TTL:PT1H
BEGIN:VTIMEZONE
TZID:America/Toronto
BEGIN:DAYLIGHT
TZOFFSETFROM:-0500
TZOFFSETTO:-0400
TZNAME:EDT
DTSTART:20240310T070000
END:DAYLIGHT
BEGIN:STANDARD
TZOFFSETFROM:-0400
TZOFFSETTO:-0500
TZNAME:EST
DTSTART:20241103T060000
END:STANDARD
END:VTIMEZONE
BEGIN:VEVENT
DTSTART;TZID=America/Toronto:20241107T190000
DTEND;TZID=America/Toronto:20241107T210000
DTSTAMP:20260420T111550
CREATED:20240822T153439Z
LAST-MODIFIED:20241010T124620Z
UID:3226-1731006000-1731013200@healingrecoverycentre.ca
SUMMARY:Clarity Breathwork: Fall Series
DESCRIPTION:Join Kaylin in a 4-session Clarity Breathwork series for healing\, growth\, and transformation. This group offering focuses on enhancing overall wellness. We seek women who understand their mental health\, are committed to improving their well-being\, and are interested in holistic health and healing. This series is ideal for those looking for community connection with other women\, who are on a healing or recovery journey and want to know themselves on a deeper level. \nIf you desire life changes for better alignment but don’t know where to start\, this series is for you. \nAll equipment is provided for you. \nThe event is held every Thursday starting November 7 – 28\, from 7:00pm – 9:00pm
URL:https://healingrecoverycentre.ca/event/clarity-breathwork-fall-series/
LOCATION:ON
ATTACH;FMTTYPE=image/jpeg:https://healingrecoverycentre.ca/wp-content/uploads/2024/08/event2.jpg
ORGANIZER;CN="Healing Recovery Centre":MAILTO:info@healingrecoverycentre.ca
END:VEVENT
END:VCALENDAR